BEGIN:VCALENDAR
VERSION:2.0
PRODID:-//Pulse - ECPv5.9.1//NONSGML v1.0//EN
CALSCALE:GREGORIAN
METHOD:PUBLISH
X-WR-CALNAME:Pulse
X-ORIGINAL-URL:https://pulse.nitk.ac.in
X-WR-CALDESC:Events for Pulse
BEGIN:VTIMEZONE
TZID:UTC
BEGIN:STANDARD
TZOFFSETFROM:+0000
TZOFFSETTO:+0000
TZNAME:UTC
DTSTART:20210101T000000
END:STANDARD
END:VTIMEZONE
BEGIN:VEVENT
DTSTART;TZID=UTC:20210129T093000
DTEND;TZID=UTC:20210129T113000
DTSTAMP:20260423T222627
CREATED:20210128T064426Z
LAST-MODIFIED:20210128T064426Z
UID:5656-1611912600-1611919800@pulse.nitk.ac.in
SUMMARY:Blood Donation Camp
DESCRIPTION:Hello everyone! \nThrough Disaster Management cell and NSS NITK\, a special Blood donation camp has been organised for emergency blood supply to Govt Wenlock Hospital in Mangalore. \nDate: 29/01/2021\nTime : 9:30 am onwards\nVenue : Mega Mess \nInterested Mtech and Ph.D students present in the campus should come forward and donate blood for this cause. \nDr. Hem Prasad Nath\nSAS Officer\,\nNITK Surathkal \n 
URL:https://pulse.nitk.ac.in/event/blood-donation-camp/
LOCATION:NITK
END:VEVENT
END:VCALENDAR