BEGIN:VCALENDAR
VERSION:2.0
PRODID:-//Pulse - ECPv5.9.1//NONSGML v1.0//EN
CALSCALE:GREGORIAN
METHOD:PUBLISH
X-WR-CALNAME:Pulse
X-ORIGINAL-URL:https://pulse.nitk.ac.in
X-WR-CALDESC:Events for Pulse
BEGIN:VTIMEZONE
TZID:UTC
BEGIN:STANDARD
TZOFFSETFROM:+0000
TZOFFSETTO:+0000
TZNAME:UTC
DTSTART:20210101T000000
END:STANDARD
END:VTIMEZONE
BEGIN:VEVENT
DTSTART;VALUE=DATE:20210305
DTEND;VALUE=DATE:20210308
DTSTAMP:20260425T135405
CREATED:20210215T070725Z
LAST-MODIFIED:20210215T070725Z
UID:5720-1614902400-1615161599@pulse.nitk.ac.in
SUMMARY:Fine Print
DESCRIPTION:Attention ‘ye lit enthusiasts! Your time to shine has come! 📣 \nFine Print is going to be a 3-day creative carnival conducted by our club on the dates of March 5th\, 6th\, 7th with events such as writing contests\, Model United Nations (MUN)\, quizzes\, theatre and film contests falling under our umbrella. \nThe carnival caters to every single one of your literary or pop culture fantasies and the events encompass a wide array of skills and interests. 💫 \nSo what are you waiting for?!\nGet your quills\, your masks and suit up for a virtual extravaganza like never before! 💯 \n 
URL:https://pulse.nitk.ac.in/event/fine-print/
LOCATION:Virtual
ATTACH;FMTTYPE=image/jpeg:https://pulse.nitk.ac.in/wp-content/uploads/2021/02/WhatsApp-Image-2021-02-13-at-7.26.27-PM.jpeg
END:VEVENT
BEGIN:VEVENT
DTSTART;TZID=UTC:20210305T180000
DTEND;TZID=UTC:20210305T190000
DTSTAMP:20260425T135405
CREATED:20210305T094721Z
LAST-MODIFIED:20210305T094721Z
UID:5820-1614967200-1614970800@pulse.nitk.ac.in
SUMMARY:The Art of Cinematic Soundscapes
DESCRIPTION:Greetings from IET INKHEART🥳🥳🥳\nReminder !!!\nRegister for the music production workshop today at 6 pm ft. Rajamani Ayyer.🤩🤩\nRegister : https://forms.gle/4p5A1EAH8oFU2d1m9\nFollow for updates at :\nhttps://www.instagram.com/p/CL4Fq9dgds1/?igshid=g60cfvnmf9lx \n 
URL:https://pulse.nitk.ac.in/event/the-art-of-cinematic-soundscapes/
LOCATION:Virtual
ATTACH;FMTTYPE=image/jpeg:https://pulse.nitk.ac.in/wp-content/uploads/2021/03/WhatsApp-Image-2021-03-05-at-12.09.21-PM.jpeg
END:VEVENT
BEGIN:VEVENT
DTSTART;TZID=UTC:20210306T080000
DTEND;TZID=UTC:20210306T170000
DTSTAMP:20260425T135405
CREATED:20210301T064738Z
LAST-MODIFIED:20210301T064738Z
UID:5800-1615017600-1615050000@pulse.nitk.ac.in
SUMMARY:IGNIS
DESCRIPTION:Are you a motorsports enthusiast? Eager to find what goes into making of a racing beast 🧐\, we finally have an answer for you! \nNITKRacing is organising IGNIS ✨ an event spanning two days\, and covering Knowledge Exchange Programs (KEPs) on multitude of topics ranging from aerodynamics to electronics. In short everything you’d need to know about building a well crafted automobile\, be it electrical or combustion! \nEvery KEP will be followed by a fun interactive session where you’ll be able to get your doubts cleared by some of the best automobile engineers NITK has to offer 🤩. \nAnd guess what?!! Participants will stand a chance to win cash prizes 🤑 and exclusive NITKRacing merchandise. \nEvent is open to only first years of all branches! \nNo pre-requisites required. Head to the link below and get yourself registered now!\nDate – 6th March\nTime – 7:30PM onwards \n🌐 Registration Link: http://bit.ly/3aY6evT \nPoint of Contact\nAjay- +919663393517\nGanesh – +919900512512 \n 
URL:https://pulse.nitk.ac.in/event/ignis/
LOCATION:Virtual
ATTACH;FMTTYPE=image/jpeg:https://pulse.nitk.ac.in/wp-content/uploads/2021/03/WhatsApp-Image-2021-02-28-at-5.12.07-PM.jpeg
END:VEVENT
BEGIN:VEVENT
DTSTART;TZID=UTC:20210307T190000
DTEND;TZID=UTC:20210307T200000
DTSTAMP:20260425T135405
CREATED:20210306T195635Z
LAST-MODIFIED:20210306T195635Z
UID:5828-1615143600-1615147200@pulse.nitk.ac.in
SUMMARY:Intro to CP\, Best websites for CP\, C++\, Time Complexity
DESCRIPTION:Greetings from Web Enthusiasts’ Club Algorithms SIG! \nWe’re glad to get started with CP League. It will be our first session for people who are new to Competitive Programming. Do attend to get familiar with the basic concepts! \nSession Details: \nDate: March 7th (Sunday) \nSpeakers: Chaithanya\, Janmansh \nVenue : https://meet.google.com/ntd-ijdb-mjq\nTime : 7:00pm\nTopic : Intro to CP\, Best websites for CP\, C++\, Time Complexity\nDifficulty : Easy\nPrerequisites: None \nFor those of you\, who haven’t joined the CP League Telegram group – here’s the link – https://t.me/joinchat/LMDG_BQYI8BpYjMYBtV_PQ \nIts open to all branches and years \n 
URL:https://pulse.nitk.ac.in/event/intro-to-cp-best-websites-for-cp-c-time-complexity/
LOCATION:Virtual
END:VEVENT
BEGIN:VEVENT
DTSTART;VALUE=DATE:20210308
DTEND;VALUE=DATE:20210312
DTSTAMP:20260425T135405
CREATED:20210301T064433Z
LAST-MODIFIED:20210301T064433Z
UID:5797-1615161600-1615507199@pulse.nitk.ac.in
SUMMARY:INGENIUM '21
DESCRIPTION:Greetings from ACM NITK! 😎 \nPresenting to you\, the first-ever edition of INGENIUM ✨\, the flagship event of Vidyut – the Electronics SIG of ACM\, NITK !!\nA 4-day long ‘ ElectroThon’⚡to take you on a joyride\, with electrifying quizzes\, insightful workshops and an enthralling 24hour contest.\nAnd that’s not it!! 💡 \nTop performers get summer internships at esteemed companies like FLUXGEN & OUTSCAL 🤯 \nSo are you ready to compete and stand out of the crowd??🤩\nDo you have what it takes to be the first ever Ingenious of NITK???👑 \nIf yes\, then join us on the 8th of March\, 2021 by registering through the form given below :\nhttps://forms.gle/7kLXcV7uq1F5W4j39 \nExclusively for 1st & 2nd years💫
URL:https://pulse.nitk.ac.in/event/ingenium-21/
ATTACH;FMTTYPE=image/jpeg:https://pulse.nitk.ac.in/wp-content/uploads/2021/03/WhatsApp-Image-2021-03-01-at-11.24.42-AM.jpeg
END:VEVENT
BEGIN:VEVENT
DTSTART;VALUE=DATE:20210308
DTEND;VALUE=DATE:20210309
DTSTAMP:20260425T135405
CREATED:20210305T094854Z
LAST-MODIFIED:20210305T094854Z
UID:5823-1615161600-1615247999@pulse.nitk.ac.in
SUMMARY:INGENIUM
DESCRIPTION:Greetings from ACM NITK! \nPresenting to you\, the first-ever edition of INGENIUM \, the flagship event of Vidyut – the Electronics SIG of ACM NITK !💡\nA 4-day long ‘ ElectroThon’⚡to take you on a joyride\, with quizzes\, insightful workshops and an enthralling 24 hour contest.\nThat’s not all !! \nTop performers get summer internships at esteemed companies like FLUXGEN & OUTSCAL ❗ \nDo you think you have what it takes to be the first Ingenious of NITK? 🧐\nIf yes\, join us on the 8th of March\, 2021 !\nRegister using the link given below: https://forms.gle/7kLXcV7uq1F5W4j39 \nExclusively for 1st & 2nd years💫. \n 
URL:https://pulse.nitk.ac.in/event/ingenium/
LOCATION:Virtual
END:VEVENT
BEGIN:VEVENT
DTSTART;TZID=UTC:20210310T173000
DTEND;TZID=UTC:20210310T183000
DTSTAMP:20260425T135405
CREATED:20210309T165444Z
LAST-MODIFIED:20210309T165444Z
UID:5834-1615397400-1615401000@pulse.nitk.ac.in
SUMMARY:Introduction to Development
DESCRIPTION:Greetings from Web Enthusiasts’ Club NITK! 👨🏻‍💻✨ \nWilling to explore development but confused about resources and path? Don’t fret; we’ve got you covered. 😌 Web Enthusiasts’ Club Dev SIG brings you a session on Introduction to Development to help you get started with development. \nThis session would lead you through the essential resources for development\, Git & GitHub \, and basics of HTML & CSS to help you harness these concepts to sail in the development field. \n🔗 Meet Link : https://meet.google.com/qvz-pmyr-ige\n📆 Date : March 10 (Wednesday)\n🕟 Time : 5:30 PM IST \nP.S. No prerequisites necessary. Absolute beginner level \n 
URL:https://pulse.nitk.ac.in/event/introduction-to-development/
LOCATION:Virtual
ATTACH;FMTTYPE=image/jpeg:https://pulse.nitk.ac.in/wp-content/uploads/2021/03/WhatsApp-Image-2021-03-09-at-9.44.53-PM.jpeg
END:VEVENT
BEGIN:VEVENT
DTSTART;TZID=UTC:20210310T180000
DTEND;TZID=UTC:20210310T190000
DTSTAMP:20260425T135405
CREATED:20210309T165708Z
LAST-MODIFIED:20210309T165708Z
UID:5837-1615399200-1615402800@pulse.nitk.ac.in
SUMMARY:THE EDITOR SERIES : Streamlabs OBS
DESCRIPTION:💫 Greetings from IET INKHEART 💫\nBringing the next episode of THE EDITOR SERIES for all the upcoming Youtubers🤩🤩🤩. Watch Laksh sadhwani take a workshop on some advanced features for streaming using Streamlabs OBS live on YouTube and make your stream look professional😎😎.\nDate: 10th March\nTime: 6pm\nLink: https://youtu.be/XN4qcRx4xUA\nFollow us on Instagram: https://www.instagram.com/p/CMMYAl2gytj/?igshid=fn2a5lk91eyu \n 
URL:https://pulse.nitk.ac.in/event/the-editor-series-streamlabs-obs/
LOCATION:Virtual
ATTACH;FMTTYPE=image/jpeg:https://pulse.nitk.ac.in/wp-content/uploads/2021/03/WhatsApp-Image-2021-03-09-at-7.44.30-PM.jpeg
END:VEVENT
BEGIN:VEVENT
DTSTART;TZID=UTC:20210311T170000
DTEND;TZID=UTC:20210311T180000
DTSTAMP:20260425T135405
CREATED:20210309T084838Z
LAST-MODIFIED:20210309T084838Z
UID:5830-1615482000-1615485600@pulse.nitk.ac.in
SUMMARY:KEP on AutoCAD
DESCRIPTION:Greetings from ASCE NITK!\nASCE NITK 👷🏻 brings you KEP on AutoCAD! \n👨🏻‍💻 AutoCAD is a design software\, it is used professionally by designers\, architects\, engineers\, and construction professionals. \nJoin us to learn new techniques and skills in AutoCAD✨. Sharpen your skills in AutoCAD and discover how people are using AutoCAD in the KEP brought to you by ASCE! 🤩 \nDate:- 11/3/2021\, Thursday\nTime:- 5PM \nInstallation Guide👨🏻‍💻:-\nhttps://youtu.be/UCMM8kE7QQ4 \nDownload the software from here using your nitk.edu mail ID for free from here:\nhttps://www.autodesk.com/education/edu-software/overview?sorting=featured&page=1 \nIn case of any queries\, contact\nSudeepthi: +91 81793 06692\nDrishti: +91 88000 90441 \n 
URL:https://pulse.nitk.ac.in/event/kep-on-autocad/
LOCATION:Virtual
ATTACH;FMTTYPE=image/jpeg:https://pulse.nitk.ac.in/wp-content/uploads/2021/03/WhatsApp-Image-2021-03-09-at-11.32.51-AM.jpeg
END:VEVENT
BEGIN:VEVENT
DTSTART;TZID=UTC:20210311T180000
DTEND;TZID=UTC:20210311T190000
DTSTAMP:20260425T135405
CREATED:20210311T063649Z
LAST-MODIFIED:20210311T063649Z
UID:5848-1615485600-1615489200@pulse.nitk.ac.in
SUMMARY:Linux CTF
DESCRIPTION:Greetings from Web Enthusiasts’ Club NITK!✨ \nDo you want to challenge your hunting skills? Are you one to pay attention to details and unravel secrets hidden in plain sight?🧐🕵🏻‍♀️🕵🏻‍♂️ \nWe present to you WEC’s Linux CTF\, which is a 3-hour long Capture The Flag online contest\, where you can challenge your skills while learning how to work through the Linux Command Line by competing in a race to find clues hidden in tricky challenges.😏 \nAre you ready to take the lead?😉 \nWhile familiarity with Linux command line would help\, no worries if you’re a beginner as the moderators will be there throughout the event to help! \n🗓️ Date: 11th March\, 2021\n🕕 Time: 6 pm IST\nPlatform: The treasure hunt will be held on HackerEarth\, so make sure you register individually at the following link- https://www.hackerearth.com/wec-linux-ctf-2021 \nThe event is beginner-friendly!😌 \nJoin our discord server for queries and further updates:\nhttps://discord.gg/XAXS8ceZ \n 
URL:https://pulse.nitk.ac.in/event/linux-ctf/
LOCATION:Virtual
ATTACH;FMTTYPE=image/jpeg:https://pulse.nitk.ac.in/wp-content/uploads/2021/03/WhatsApp-Image-2021-03-10-at-8.43.23-PM.jpeg
END:VEVENT
BEGIN:VEVENT
DTSTART;VALUE=DATE:20210312
DTEND;VALUE=DATE:20210315
DTSTAMP:20260425T135405
CREATED:20210309T165950Z
LAST-MODIFIED:20210309T165950Z
UID:5840-1615507200-1615766399@pulse.nitk.ac.in
SUMMARY:Apprentice
DESCRIPTION:Greetings from ACM-NITK! \nHave you ever wondered what it takes to make it into some of the world’s largest firms such as McKinsey and BCG?\nHave you ever visualised what MBAs at Harvard and Stanford are capable of that makes them the best in the world?\nDo you want to know what it takes to make it in the world of Business? \nACM NITK presents to you its Flagship Business Event: Apprentice!\nJoin us for a compelling 3-day contest from 12th-14th March. The events comprise of addictive Guesstimates\, a fun KEP on solving business models and for the grand finale\, a Business Case\, albeit with a twist! \nFear not if you think you are a novice in the field. Hop on the bandwagon and learn the basics of business\, with Apprentice \nSo what are you waiting for?\nRegister for the event using the link given below:\nhttps://forms.gle/Q5FianFzCTtfHwa99 \nOpen to first-years only \nFor further queries\, contact:-\nNeketra +918454037535\nSadhana +919995347759 \n 
URL:https://pulse.nitk.ac.in/event/apprentice/
LOCATION:Virtual
ATTACH;FMTTYPE=image/jpeg:https://pulse.nitk.ac.in/wp-content/uploads/2021/03/WhatsApp-Image-2021-03-09-at-7.38.03-PM.jpeg
END:VEVENT
BEGIN:VEVENT
DTSTART;TZID=UTC:20210314T180000
DTEND;TZID=UTC:20210314T190000
DTSTAMP:20260425T135405
CREATED:20210310T120301Z
LAST-MODIFIED:20210310T120301Z
UID:5843-1615744800-1615748400@pulse.nitk.ac.in
SUMMARY:e-Daksha Technical Workshop Series : Introduction to Blockchain Technologies
DESCRIPTION:Greetings from IET NITK!\nBitcoin is the future of cashless transactions\, said by many. \nHere’s your chance to get a sneak peek into Blockchain Techologies \nWe present to you : e-Daksha Technical Workshop Series \nThe speaker this week is Dr. Santhosh\, Head of Global Tech Team Atkins\, India \nCertificates to all those who attend the talk \nDon’t miss out!! Register now: https://bit.ly/2O1Q1wS\nDate : Mar 14\, 2021\, 6:00pm – 7:30 pm. \n 
URL:https://pulse.nitk.ac.in/event/e-daksha-technical-workshop-series-introduction-to-blockchain-technologies/
LOCATION:Virtual
ATTACH;FMTTYPE=image/jpeg:https://pulse.nitk.ac.in/wp-content/uploads/2021/03/WhatsApp-Image-2021-03-10-at-3.23.38-PM.jpeg
END:VEVENT
BEGIN:VEVENT
DTSTART;TZID=UTC:20210314T180000
DTEND;TZID=UTC:20210314T190000
DTSTAMP:20260425T135405
CREATED:20210313T165007Z
LAST-MODIFIED:20210313T165007Z
UID:5853-1615744800-1615748400@pulse.nitk.ac.in
SUMMARY:Building a career as a full-stack web developer in 2021🚀 by Mehul Mohan
DESCRIPTION:Greetings from Web Enthusiasts’ Club NITK and IEEE NITK ✨ \nWe’re back with another expert talk 💡\nBuilding a career as a full-stack web developer in 2021🚀 by Mehul Mohan – founder of codedamn – an online learning platform and a YouTube channel with 150k subscribers 💫 \nGetting started with web development in 2021 can be a daunting task 😪. With so many options to choose and roadmaps to follow\, languages and libraries to learn. It can get overwhelming quickly 😵\, especially if you’re a beginner. Lest you step in the wrong direction and end up wasting your time 🚫 \nThis talk will help you navigate the web-technology-hell in 2021 and become an efficient full-stack developer with a minimal tech stack. \nThere would also be a live QnA session at the end. See you there 🏃 \nDate: 14th March (Sunday)\nTime: 6 PM \nYouTube Livestream:\nhttps://youtu.be/NHh91G40AkE \nAdd event to calendar:\nhttp://bit.ly/add-to-calendar-expert-talk \n 
URL:https://pulse.nitk.ac.in/event/building-a-career-as-a-full-stack-web-developer-in-2021%f0%9f%9a%80-by-mehul-mohan/
LOCATION:Virtual
ATTACH;FMTTYPE=image/jpeg:https://pulse.nitk.ac.in/wp-content/uploads/2021/03/WhatsApp-Image-2021-03-13-at-9.53.11-PM.jpeg
END:VEVENT
BEGIN:VEVENT
DTSTART;VALUE=DATE:20210315
DTEND;VALUE=DATE:20210318
DTSTAMP:20260425T135405
CREATED:20210311T063749Z
LAST-MODIFIED:20210311T063749Z
UID:5851-1615766400-1616025599@pulse.nitk.ac.in
SUMMARY:Astro-Fest 2021
DESCRIPTION:Greetings from Infinity and Beyond \nAstronomy lovers! AAC NITK has something special coming up for you! \nAstro-Fest 2021 is now here! ✨ \nJoin us next week from 15th to 17th March from 6 PM onwards for a whole lot of fun and a chance to win amazing prizes! 💸 \nAn art competition for the artistically gifted\, a case study competition for the inquisitive minds among you\, and Astrogames 🏀 \n👇 Watch the teaser at our IG page: https://www.instagram.com/reel/CMPog_BgTDk/?igshid=1qy9g22xcfx19 \n✨ We hope to see you next week ✨ \n 
URL:https://pulse.nitk.ac.in/event/astro-fest-2021/
LOCATION:Virtual
END:VEVENT
BEGIN:VEVENT
DTSTART;VALUE=DATE:20210318
DTEND;VALUE=DATE:20210321
DTSTAMP:20260425T135405
CREATED:20210311T063502Z
LAST-MODIFIED:20210311T063502Z
UID:5846-1616025600-1616284799@pulse.nitk.ac.in
SUMMARY:Bizfest
DESCRIPTION:💫Are you equipped to experience the greatest business fest in NITK? Be prepared to be swept off your feet by the whirlwind of biz-culture! \nISTE Credit introduces Bizfest!🔥\nA one of a kind business-centric episode from the 18th to the 20th of March. \nWith a diverse array of eminent panellists and speakers from all across the globe 🌎 covering topics ranging from Product Management to Entrepreneurship even Tackling the SDG’s\, Bizfest is precisely curated to provide biz-enthusiasts a whole rounded learning experience! \nStay tuned to be a part of this phenomenal event! 🤩 \nhttps://www.instagram.com/p/CMPZtxIAsOD/?igshid=11mkp4r0x3m0t \n 
URL:https://pulse.nitk.ac.in/event/bizfest/
LOCATION:Virtual
END:VEVENT
BEGIN:VEVENT
DTSTART;TZID=UTC:20210321T180000
DTEND;TZID=UTC:20210321T190000
DTSTAMP:20260425T135405
CREATED:20210321T040240Z
LAST-MODIFIED:20210321T040240Z
UID:5881-1616349600-1616353200@pulse.nitk.ac.in
SUMMARY:Memes Quiz
DESCRIPTION:✨ Greetings from LSD NITK✨ \nHave you adjusted well to quarantine🥱? Do you walk around with a signature look of superiority 😤knowing that you never left your house anyway? \nWell the Memes Quiz 🤡hosted by LSD’s QuizSoc is here to test your knowledge of the internet from Reddit to tik tok and everything in between. \nJoin in in teams of 3 or less! And don’t forget to revise your memes before coming! \nRegister on the link below :\nhttps://forms.gle/k6927En7ML8JnqqF9 \nDate : 21st March\, Sunday\nTime : 6PM IST \nTo clarify any doubts contact:\nDwijesh- wa.me/917019180187\nNakul – wa.me/9061774675
URL:https://pulse.nitk.ac.in/event/memes-quiz/
LOCATION:Virtual
ATTACH;FMTTYPE=image/jpeg:https://pulse.nitk.ac.in/wp-content/uploads/2021/03/WhatsApp-Image-2021-03-18-at-7.31.04-PM.jpeg
END:VEVENT
BEGIN:VEVENT
DTSTART;TZID=UTC:20210321T180000
DTEND;TZID=UTC:20210321T193000
DTSTAMP:20260425T135405
CREATED:20210321T040033Z
LAST-MODIFIED:20210321T040033Z
UID:5878-1616349600-1616355000@pulse.nitk.ac.in
SUMMARY:Introduction to Game Development on Unity
DESCRIPTION:✨ Greetings from IET NITK!! ✨ \nDid u ever wonder about making your own game but don’t know where to start ?\nIET NITK’s Marmik Mundada is holding a session\, “Introduction to Game Development on Unity”. \nIf you are brand new to Unity\, or if you want to make sure you have covered the basic\,or if you want to learn to write your first C# script – this is the session for you 😉 \nCome join us!🤗 \n🗓️ Date : 21th March 2021\n⏱️ Time : 6:00 PM to 7:30 PM\n🔮 Link : https://bit.ly/2Qh9F9b \nUnity installation guide : https://bit.ly/2NCfqNS \nHope to see you there!
URL:https://pulse.nitk.ac.in/event/introduction-to-game-development-on-unity/
LOCATION:Virtual
ATTACH;FMTTYPE=image/jpeg:https://pulse.nitk.ac.in/wp-content/uploads/2021/03/WhatsApp-Image-2021-03-20-at-9.06.02-PM.jpeg
END:VEVENT
BEGIN:VEVENT
DTSTART;VALUE=DATE:20210326
DTEND;VALUE=DATE:20210329
DTSTAMP:20260425T135405
CREATED:20210321T040409Z
LAST-MODIFIED:20210321T040409Z
UID:5884-1616716800-1616975999@pulse.nitk.ac.in
SUMMARY:BLOCKBUSTER reloaded
DESCRIPTION:Tired of surprise quizzes absolutely bombing your GPA? Conversely\, are you tired of your friends calling you a know-it-all?🧠 \nHere’s a quiz that is so easy🥳\, a caveman could ace it. A quiz so filled with pop culture\, you could take this quiz to the movies.👽 \nRotaract Club – NITK Chapter presents\, \nBLOCKBUSTER reloaded🕴️💃 \nAn event where knowing stuff actually pays off!😏 Register in group of 3🚥 for this first year exclusive event and prepare yourself for grueling rounds🧐 that will funnel out the best among you!🌝🌚 \nDates: 26th-28th March 2021 \nSign up with the link below:\nhttps://docs.google.com/forms/d/e/1FAIpQLSc5szTjb0VL4UInPZ7t01E7gUYB9w7m5wF_YfQScksMOVy2kQ/viewform?usp=sf_link \nSee you there!😎 \nPS: Final date for registration is this 24th so sign up peeps🥳🥳
URL:https://pulse.nitk.ac.in/event/blockbuster-reloaded/
LOCATION:Virtual
ATTACH;FMTTYPE=image/jpeg:https://pulse.nitk.ac.in/wp-content/uploads/2021/03/WhatsApp-Image-2021-03-18-at-1.37.13-PM.jpeg
END:VEVENT
END:VCALENDAR